BEGIN:VCALENDAR
VERSION:2.0
METHOD:PUBLISH
PRODID:-//Virginia Tech//VT Calendar//EN
BEGIN:VEVENT
DTSTAMP:20120227T211000Z
UID:1329832608675@events.msu.edu
CATEGORIES:Conferences / Seminars / Lectures
DTSTART:20120227T211000Z
DTEND:20120228T045900Z
SUMMARY:Plant Biology and Plant Research Laboratory
DESCRIPTION:
 Professor Richard Primack from Boston University 
 gives a presentation titled, &quot;Climate 
 change comes to Thoreau's Concord: Impacts on 
 plants, birds and butterflies&quot;\n\n
 Price: free\n
 Sponsor: public\n
 Contact name: Adelle Rigotti\n
 Contact phone: 355-4683\n
 Contact email: rigottia@msu.edu \n
LOCATION:PSS 1200
END:VEVENT
END:VCALENDAR
