BEGIN:VCALENDAR
VERSION:2.0
METHOD:PUBLISH
PRODID:-//Virginia Tech//VT Calendar//EN
BEGIN:VEVENT
DTSTAMP:20120331T020000Z
UID:1329835795172@events.msu.edu
CATEGORIES:Special Events
DTSTART:20120331T020000Z
DTEND:20120331T040000Z
SUMMARY:Observatory Open House
DESCRIPTION:
 The first 2012 public observing weekend at the 
 MSU Observatory 24" telescope will be Friday 
 and Saturday, March 30 and March 31, weather 
 permitting.  The observing session is from 9:00 
 pm to 11:00 pm.  Besides the Observatory 
 telescope, the Physics/Astronomy Department will 
 set up telescopes on the lawn along with 
 members of the Capital Area Astronomy Association. 
  \n
 \n
   \n
 \n
 \n
 \n\n
 Price: free\n
 Sponsor: Physics/Astronomy Dept. & Abrams Planetarium\n
 Sponsor's Homepage: http://www.pa.msu.edu/abrams\n
 Contact name: Mary Gowans\n
 Contact phone: 517-355-4676\n
 Contact email: gowans@msu.edu\n
 for more info visit the web at:\n 
 http://www.pa.msu.edu/abrams\n
LOCATION:MSU Observtory
END:VEVENT
END:VCALENDAR
