BEGIN:VCALENDAR
VERSION:2.0
METHOD:PUBLISH
PRODID:-//Virginia Tech//VT Calendar//EN
BEGIN:VEVENT
DTSTAMP:20120415T200000Z
UID:1331655463620@events.msu.edu
CATEGORIES:Performing Arts (Dance, Music, Theatre,  ...)
DTSTART:20120415T200000Z
DTEND:20120416T035900Z
SUMMARY:Performance by Lansing Symphony cellist Stefan Koch
DESCRIPTION:
 CMS presents a special recital by Lansing Symphony 
 cellist Stefan Koch.  Mr. Koch and pianist 
 Emily Lai will perform newly discovered works 
 by exiled Austrian composer Richard Stohr. 
 This cello and piano music has never been heard 
 in the U.S. until now.  In addition to performing, 
 Mr. Koch will speak about the life 
 and career of Richard Stohr, who was a central 
 figure in Viennese cultural life.  Please 
 join us for this special musical and educational 
 event. \n\n
 Price: free\n
 Sponsor: Administration\n
 Sponsor's Homepage: http://cms.msu.edu\n
 Contact phone: (517)355-7661\n
 Contact email: commusic@msu.edu\n
 for more info visit the web at:\n 
 http://cms.msu.edu\n
LOCATION:Community Music School
END:VEVENT
END:VCALENDAR
