BEGIN:VCALENDAR
VERSION:2.0
METHOD:PUBLISH
PRODID:-//Virginia Tech//VT Calendar//EN
BEGIN:VEVENT
DTSTAMP:20120407T050000Z
UID:1331741635910@events.msu.edu
CATEGORIES:Performing Arts (Dance, Music, Theatre,  ...)
DTSTART;VALUE=DATE:20120407
DTEND;VALUE=DATE:20120408
SUMMARY:No Classes
DESCRIPTION:
 CMS-Detroit is closed\n\n
 Price: free\n
 Sponsor: Administration\n
 Sponsor's Homepage: http://events.msu.edu/cmusic-detroit/\n
END:VEVENT
END:VCALENDAR
