BEGIN:VCALENDAR
VERSION:2.0
METHOD:PUBLISH
PRODID:-//Virginia Tech//VT Calendar//EN
BEGIN:VEVENT
DTSTAMP:20120511T230000Z
UID:1332265942362@events.msu.edu
CATEGORIES:Performing Arts (Dance, Music, Theatre,  ...)
DTSTART:20120511T230000Z
DTEND:20120512T035900Z
SUMMARY:Choir Concert
DESCRIPTION:
 Come watch the Children of the MSU Choir's on 
 Friday, May 11 at 7 p.m.\n\n
 Price: free\n
 Sponsor: Administration\n
 Sponsor's Homepage: http://cms.msu.edu\n
 Contact phone: (517) 355-7661\n
 Contact email: commusic@msu.edu\n
 for more info visit the web at:\n 
 http://cms.msu.edu\n
LOCATION:Holt High School
END:VEVENT
END:VCALENDAR
