BEGIN:VCALENDAR
VERSION:2.0
METHOD:PUBLISH
PRODID:-//Virginia Tech//VT Calendar//EN
BEGIN:VEVENT
DTSTAMP:20120620T120000Z
UID:1332266943743-0004@events.msu.edu
CATEGORIES:Performing Arts (Dance, Music, Theatre,  ...)
DTSTART:20120620T120000Z
DTEND:20120621T020000Z
SUMMARY:Jazz Camp
DESCRIPTION:
 This residential camp is for middle and high school 
 students from Southeast Michigan and Greater 
 Lansing, with intermediate and advanced 
 playing experience on their instruments. The 
 program focuses on jazz orchestra and small 
 groups, exposing participants to many arrangements 
 and composition styles used in jazz. Students 
 learn applied theory, sight-reading and 
 improvisation. They stay in residence halls, 
 getting a firsthand look at college life, as 
 they work with MSU College of Music world-class 
 faculty and MSU Jazz Studies student mentors.\n\n
 Price: $500 non-residential, $600 residential\n
 Sponsor: Administration\n
 Sponsor's Homepage: http://cms.msu.edu\n
 Contact phone: (517) 255-7661\n
 Contact email: commusic@msu.edu\n
 for more info visit the web at:\n 
 http://cms.msu.edu\n
LOCATION:CMS
END:VEVENT
END:VCALENDAR
