BEGIN:VCALENDAR
VERSION:2.0
METHOD:PUBLISH
PRODID:-//Virginia Tech//VT Calendar//EN
BEGIN:VEVENT
DTSTAMP:20120711T040000Z
UID:1332267078304-0003@events.msu.edu
CATEGORIES:Performing Arts (Dance, Music, Theatre,  ...)
DTSTART;VALUE=DATE:20120711
DTEND;VALUE=DATE:20120712
SUMMARY:Rock Camp
DESCRIPTION:
 Rock Camp is a day camp for middle and high school 
 students who have some experience playing 
 their instruments (guitar, bass, drums, keyboard 
 or vocals). Students will form and perform 
 in their own bands. Students who play other 
 instruments or have limited experience should 
 consult the Community Music School. Camp 
 will conclude with a performance at the Common 
 Ground Music Festival. Price includes the cost 
 of admission to the festival for the student 
 and one parent. Choose from either 9 a.m.-1 
 p.m. or 2 p.m.-6 p.m.\n\n
 Price: $220\n
 Sponsor: Administration\n
 Sponsor's Homepage: http://cms.msu.edu\n
 Contact phone: (517) 355-7661\n
 Contact email: commusic@msu.edu\n
 for more info visit the web at:\n 
 http://cms.msu.edu\n
LOCATION:CMS
END:VEVENT
END:VCALENDAR
