BEGIN:VCALENDAR
VERSION:2.0
METHOD:PUBLISH
PRODID:-//Virginia Tech//VT Calendar//EN
BEGIN:VEVENT
DTSTAMP:20120428T010000Z
UID:1332268686812@events.msu.edu
CATEGORIES:Special Events
DTSTART:20120428T010000Z
DTEND:20120428T030000Z
SUMMARY:Observatory Open House
DESCRIPTION:
 The MSU Observatory's 24" telescope will be open 
 along with Physics/Astronomy staff and members 
 of the Capital Area Astronomy Association 
 setting up more telescopes on the lawn.  Parking 
 is available around the Observatory grounds.\n\n
 Price: free\n
 Sponsor: Abrams Planetarium\n
 Sponsor's Homepage: http://www.pa.msu.edu/abrams\n
 Contact name: Mary Gowans\n
 Contact phone: 517-355-4676\n
 Contact email: gowans@msu.edu\n
 for more info visit the web at:\n 
 http://www.pa.msu.edu/abrams\n
LOCATION:MSU Observtory
END:VEVENT
END:VCALENDAR
