BEGIN:VCALENDAR
VERSION:2.0
METHOD:PUBLISH
PRODID:-//Virginia Tech//VT Calendar//EN
BEGIN:VEVENT
DTSTAMP:20120624T013000Z
UID:1332270237652@events.msu.edu
CATEGORIES:Special Events
DTSTART:20120624T013000Z
DTEND:20120624T030000Z
SUMMARY:Observatory Open House
DESCRIPTION:
 The June public observing night at the MSU Observatory's 
 24" telescope will be Saturday, June 
 23, weather permitting. Besides the Observatory 
 telescope, the Physics/Astronomy Department 
 staff will set up telescopes on the lawn 
 along with members of the Capital Area Astronomy 
 Association. Parking is available on the 
 Observatory grounds.\n\n
 Price: free\n
 Sponsor: Abrams Planetarium\n
 Sponsor's Homepage: http://www.pa.msu.edu/abrams\n
 Contact name: Mary Gowans\n
 Contact phone: 517-355-4676\n
 Contact email: gowans@msu.edu\n
 for more info visit the web at:\n 
 http://www.pa.msu.edu/abrams\n
LOCATION:MSU Observtory
END:VEVENT
END:VCALENDAR
