BEGIN:VCALENDAR
VERSION:2.0
METHOD:PUBLISH
PRODID:-//Virginia Tech//VT Calendar//EN
BEGIN:VEVENT
DTSTAMP:20120519T040000Z
UID:1334083899693@events.msu.edu
CATEGORIES:Performing Arts (Dance, Music, Theatre,  ...)
DTSTART;VALUE=DATE:20120519
DTEND;VALUE=DATE:20120520
SUMMARY:Miss Gina's room's last EC class
DESCRIPTION:
 Last day for EC classes- Miss Gina's room\n\n
 Sponsor: Administration\n
 Sponsor's Homepage: http://events.msu.edu/cmusic-detroit/\n
 Contact phone: (313) 578-9716\n
 Contact email: cmsd@msu.edu\n
 for more info visit the web at:\n 
 http://cms.msu.edu\n
LOCATION:CMS-Detroit
END:VEVENT
END:VCALENDAR
