BEGIN:VCALENDAR
VERSION:2.0
METHOD:PUBLISH
PRODID:-//Virginia Tech//VT Calendar//EN
BEGIN:VEVENT
DTSTAMP:20120424T003000Z
UID:1334838943124@events.msu.edu
CATEGORIES:Student Events
DTSTART:20120424T003000Z
DTEND:20120424T023000Z
SUMMARY:Movie by Moonlight
DESCRIPTION:
 Movie by Moonlight\n
 8:30-10:30 p.m., Demonstration 
 Field\n
 Bring a blanket and some popcorn 
 and lounge on the lawn for a special showing 
 of Animal House. In partnership with Senior Class 
 Council. Event cancelled if rain.\n\n
 Price: FREE\n
 Sponsor: University Activities Board (UAB)\n
 Sponsor's Homepage: http://www.uabevents.com\n
 Contact name: University Activities Board\n
 Contact phone: 355-3354\n
 Contact email: uab@hfs.msu.edu\n
 for more info visit the web at:\n 
 http://www.uabevents.com\n
LOCATION:Demonstration Field
END:VEVENT
END:VCALENDAR
