BEGIN:VCALENDAR
VERSION:2.0
METHOD:PUBLISH
PRODID:-//Virginia Tech//VT Calendar//EN
BEGIN:VEVENT
DTSTAMP:20120605T120000Z
UID:1335385966785@events.msu.edu
CATEGORIES:Conferences / Seminars / Lectures
DTSTART:20120605T120000Z
DTEND:20120605T210000Z
SUMMARY:MSU IT Conference
DESCRIPTION:
 Libraries, Computing and Technology hosts an annual 
 IT Conference to recognize and share creativity 
 and forward-thinking contributions made 
 by information technology and the people 
 behind the technology at MSU. \n\n
 Price: $55\n
 Sponsor: public\n
 Contact name: Sarah Payok\n
 Contact phone: (517)432-7314\n
 Contact email: payok@msu.edu\n
 for more info visit the web at:\n 
 http://tech.msu.edu/ITconference/\n
LOCATION:Union
END:VEVENT
END:VCALENDAR
