BEGIN:VCALENDAR
VERSION:2.0
METHOD:PUBLISH
PRODID:-//Virginia Tech//VT Calendar//EN
BEGIN:VEVENT
DTSTAMP:20120715T000000Z
UID:1337177891688@events.msu.edu
CATEGORIES:Public Programs
DTSTART:20120715T000000Z
DTEND:20120715T013000Z
SUMMARY:Relics of the Big Bang
DESCRIPTION:
 This is the last Saturday show for the summer. 
  "Relics of the Big Bang" emphasizes research 
 currently underway at CERN and illustrates 
 the monumental scale of a project that extends 
 from Geneva, Switzerland to East Lansing, Michigan. 
  Along the way, the audience is invited 
 to take a closer look at the Large Hadron 
 Collider, the ATLAS detector, and to learn more 
 about Dark Matter, the Higgs Particle, and 
 other fascinating physical mysteries\n\n
 Price: Adults $3.00, students and senior citizens $2.50, 
 children 12 years and under $2.00\n
 Sponsor: Abrams Planetarium\n
 Sponsor's Homepage: http://www.pa.msu.edu/abrams\n
 Contact name: Mary Gowans\n
 Contact phone: 517-355-4676\n
 Contact email: gowans@msu.edu\n
 for more info visit the web at:\n 
 http://www.pa.msu.edu/abrams\n
LOCATION:Abrams Planetarium
END:VEVENT
END:VCALENDAR
