BEGIN:VCALENDAR
VERSION:2.0
METHOD:PUBLISH
PRODID:-//Virginia Tech//VT Calendar//EN
BEGIN:VEVENT
DTSTAMP:20120907T173000Z
UID:1339708753992@events.msu.edu
CATEGORIES:Training
DTSTART:20120907T173000Z
DTEND:20120907T190000Z
SUMMARY:EndNote X4
DESCRIPTION:
 A basic introduction to EndNote X4.  Learn how 
 to:\n
 -Import references from MSU's online catalog 
 and article databases\n
 -Format citations 
 and bibliographies in a Word document\n
 \n
 For 
 more information about this popular program, 
 visit http://libguides.lib.msu.edu/endnote\n
 *Previous 
 experience searching article databases 
 available from MSU Libraries is highly recommended. 
 \n\n
 Price: free\n
 Sponsor: Administration\n
 Sponsor's Homepage: http://www.lib.msu.edu\n
 Contact name: Holly Flynn\n
 Contact phone: 517-884-0901\n
 Contact email: flynnhol@msu.edu\n
 for more info visit the web at:\n 
 http://libguides.lib.msu.edu/endnote\n
LOCATION:Main Library, Basement Instruction Room
END:VEVENT
END:VCALENDAR
