BEGIN:VCALENDAR
VERSION:2.0
METHOD:PUBLISH
PRODID:-//Virginia Tech//VT Calendar//EN
BEGIN:VEVENT
DTSTAMP:20120802T120000Z
UID:1343158230778@events.msu.edu
CATEGORIES:Conferences / Seminars / Lectures
DTSTART:20120802T120000Z
DTEND:20120802T130000Z
SUMMARY:Future of Pediatric Education
DESCRIPTION:
 Pediatric Grand Rounds presented by: Mona Hanna-Attisha, 
 MD, Assistant Professor, Pediatrics 
 and Human Development, MSU Flint Campus \n
 \n
 \n
 At 
 the end of the activity (presentation), 
 the participants will be better able to: (1) 
 Briefly describe the history of residencies 
 and pediatric training; (2) Elaborate on current 
 state of pediatric education; and (3) Discuss 
 the potential future of pediatric education\n
 \n\n
 Price: free\n
 Sponsor: Administration\n
 Sponsor's Homepage: http://humanmedicine.msu.edu/\n
 Contact name: Betty Elliott\n
 Contact phone: 517 355-4715\n
 Contact email: 517 355-8312\n
LOCATION:Sparrow Hospital Auditorium
END:VEVENT
END:VCALENDAR
