BEGIN:VCALENDAR
VERSION:2.0
METHOD:PUBLISH
PRODID:-//Virginia Tech//VT Calendar//EN
BEGIN:VEVENT
DTSTAMP:20120816T120000Z
UID:1343758744963@events.msu.edu
CATEGORIES:Conferences / Seminars / Lectures
DTSTART:20120816T120000Z
DTEND:20120816T130000Z
SUMMARY:Time to Treat
DESCRIPTION:
 Pediatric Grand Rounds presented by:  Heather 
 Bellow, MD, Peggy Pier, RN and Kerry Boomershine-Whitbeck, 
 RN.  Sparrow Health System\n
 At 
 the end of the presentation, the participants 
 will: 1.Describe the components and process 
 for quality improvement in pediatric inpatient 
 unit;\n
 2.Evaluate quality improvement data 
 from the admission process for outcome changes; 
 and 3.Identify incidental research findings 
 in quality improvement and consequent practice 
 changes\n
 \n
 \n\n
 Price: free\n
 Sponsor: Administration\n
 Sponsor's Homepage: http://humanmedicine.msu.edu/\n
 Contact name: Betty Elliott\n
 Contact phone: 355-4715\n
 Contact email: betty.elliott@ht.msu.edu\n
LOCATION:Sparrow Hospital Auditorium
END:VEVENT
END:VCALENDAR
