BEGIN:VCALENDAR
VERSION:2.0
METHOD:PUBLISH
PRODID:-//Virginia Tech//VT Calendar//EN
BEGIN:VEVENT
DTSTAMP:20121003T190000Z
UID:1345054045693@events.msu.edu
CATEGORIES:Conferences / Seminars / Lectures
DTSTART:20121003T190000Z
DTEND:20121003T203000Z
SUMMARY:Department of Chemistry Organic Seminar
DESCRIPTION:
 Professor Scott A. Snyder, Columbia University, 
 will present an Organic Chemistry Seminar on 
 October 3, 2012.  Host:  Professor Babak Borhan. 
  Title:  Exploring Chemoselectivity through 
 Natural Product Total Synthesis.\n
 \n\n
 Price: free\n
 Sponsor: Chemistry\n
 Sponsor's Homepage: http://www.chemistry.msu.edu/\n
 Contact name: DeAnn Pierce\n
 Contact phone: 517-355-9715, ext. 137\n
 Contact email: pierce@chemistry.msu.edu\n
LOCATION:136 Chemistry
END:VEVENT
END:VCALENDAR
