BEGIN:VCALENDAR
VERSION:2.0
METHOD:PUBLISH
PRODID:-//Virginia Tech//VT Calendar//EN
BEGIN:VEVENT
DTSTAMP:20121004T180000Z
UID:1345655467718@events.msu.edu
CATEGORIES:Student Events
DTSTART:20121004T180000Z
DTEND:20121004T220000Z
SUMMARY:Career Gallery - Business Exchange
DESCRIPTION:
 MSU's largest career fair with over 250 employers 
 and 5000 students over the 2 days.  Something 
 for all students, all majors, all colleges. 
  This event attracts well-known employers 
 representing a variety of industries and full 
 time, internship, and co-op opportunities for 
 students.\n
 \n
 Questions? Call 517-432-0830 
 or go to http://lear.bus.msu.edu/\n
 \n\n
 Price: free\n
 Sponsor: public\n
 Contact name: Lear Career Center\n
 Contact phone: 517-432-0830\n
 Contact email: Lear@bus.msu.edu\n
 for more info visit the web at:\n 
 http://careernetwork.msu.edu/career-fairs/career-gallery\n
LOCATION:Breslin Center
END:VEVENT
END:VCALENDAR
