BEGIN:VCALENDAR
VERSION:2.0
METHOD:PUBLISH
PRODID:-//Virginia Tech//VT Calendar//EN
BEGIN:VEVENT
DTSTAMP:20120903T040000Z
UID:1345738383534@events.msu.edu
CATEGORIES:Academic
DTSTART;VALUE=DATE:20120903
DTEND;VALUE=DATE:20120904
SUMMARY:Holiday-University Closed
DESCRIPTION:
  Price: free\n
 Sponsor: Administration\n
 Sponsor's Homepage: http://events.msu.edu/\n
END:VEVENT
END:VCALENDAR
