BEGIN:VCALENDAR
VERSION:2.0
METHOD:PUBLISH
PRODID:-//Virginia Tech//VT Calendar//EN
BEGIN:VEVENT
DTSTAMP:20130306T050000Z
UID:1345748330735-0003@events.msu.edu
CATEGORIES:Academic
DTSTART;VALUE=DATE:20130306
DTEND;VALUE=DATE:20130307
SUMMARY:Spring Break
DESCRIPTION:
 Spring Break\n\n
 Sponsor: Administration\n
 Sponsor's Homepage: http://events.msu.edu/registrar/\n
 for more info visit the web at:\n 
 http://www.reg.msu.edu\n
END:VEVENT
END:VCALENDAR
