BEGIN:VCALENDAR
VERSION:2.0
METHOD:PUBLISH
PRODID:-//Virginia Tech//VT Calendar//EN
BEGIN:VEVENT
DTSTAMP:20130111T050000Z
UID:1345751689824@events.msu.edu
CATEGORIES:Academic
DTSTART;VALUE=DATE:20130111
DTEND;VALUE=DATE:20130112
SUMMARY:Last Day to Change to or from CR/NC or Visitor
DESCRIPTION:
 Last day to change to or from CR/NC or Visitor 
 -- must be done in the Registrar`s Office by 
 5 p.m. \n\n
 Sponsor: Administration\n
 Sponsor's Homepage: http://events.msu.edu/registrar/\n
 for more info visit the web at:\n 
 http://www.reg.msu.edu\n
END:VEVENT
END:VCALENDAR
