BEGIN:VCALENDAR
VERSION:2.0
METHOD:PUBLISH
PRODID:-//Virginia Tech//VT Calendar//EN
BEGIN:VEVENT
DTSTAMP:20130426T040000Z
UID:1345751883076@events.msu.edu
CATEGORIES:Academic
DTSTART;VALUE=DATE:20130426
DTEND;VALUE=DATE:20130427
SUMMARY:Classes End for SS13
DESCRIPTION:
  Sponsor: Administration\n
 Sponsor's Homepage: http://events.msu.edu/registrar/\n
 for more info visit the web at:\n 
 http://www.reg.msu.edu\n
END:VEVENT
END:VCALENDAR
