BEGIN:VCALENDAR
VERSION:2.0
METHOD:PUBLISH
PRODID:-//Virginia Tech//VT Calendar//EN
BEGIN:VEVENT
DTSTAMP:20120925T220000Z
UID:1346352567826-0004@events.msu.edu
CATEGORIES:Student Events
DTSTART:20120925T220000Z
DTEND:20120926T035900Z
SUMMARY:UAB General Board Meeting
DESCRIPTION:
 UAB enhances Spartan's classroom education by 
 offering worthwhile volunteer and leadership 
 opportunities. Regardless of your area of study, 
 you can gain skills that will give you a 
 competitive edge in today's job market! Find 
 out how to join our organization at our fall 
 kick-off meeting. All undergraduate students 
 are welcome and it is FREE to be a member! You 
 can get involved in planning on-campus activities 
 and be a part of any of the following 
 committees: Arts; Education & Leadership; Films; 
 Human Resources; Marketing; Multicultural; 
 Special Events; and Spirit & Traditions.\n\n
 Price: FREE\n
 Sponsor: University Activities Board (UAB)\n
 Sponsor's Homepage: http://www.uabevents.com\n
 Contact name: University Activities Board\n
 Contact phone: 355-3354\n
 Contact email: uab@hfs.msu.edu\n
 for more info visit the web at:\n 
 http://www.uabevents.com\n
LOCATION:2nd Floor MSU Union
END:VEVENT
END:VCALENDAR
