BEGIN:VCALENDAR
VERSION:2.0
METHOD:PUBLISH
PRODID:-//Virginia Tech//VT Calendar//EN
BEGIN:VEVENT
DTSTAMP:20121115T220000Z
UID:1346943479360@events.msu.edu
CATEGORIES:Student Events
DTSTART:20121115T220000Z
DTEND:20121116T000000Z
SUMMARY:Marathon of Majors
DESCRIPTION:
 Representatives from MSU colleges and academic 
 support units will be available to answer students' 
 questions about majors, minors, specializations, 
 internships, study abroad, tutoring 
 and other support services. Sponsored by the 
 Undergraduate University Division.\n\n
 Price: free\n
 Sponsor: public\n
 Contact name: Dawn\n
 Contact email: therria5@mail.msu.edu\n
 for more info visit the web at:\n 
 https://www.msu.edu/dept/uud/Documents/momFS12.pdf\n
LOCATION:Bessey Hall, first floor classroom wing
END:VEVENT
END:VCALENDAR
