BEGIN:VCALENDAR
VERSION:2.0
METHOD:PUBLISH
PRODID:-//Virginia Tech//VT Calendar//EN
BEGIN:VEVENT
DTSTAMP:20130430T233000Z
UID:1346946103695@events.msu.edu
CATEGORIES:Performing Arts (Dance, Music, Theatre,  ...)
DTSTART:20130430T233000Z
DTEND:20130501T035900Z
SUMMARY:Sergei Kvitko, piano
DESCRIPTION:
 <a href="https://commerce.cashnet.com/msu_3639?&cname=genadmission" 
 target="_blank">\n
 Tickets 
 available at the door.\n\n
 Price: $10 for adults, $8 for seniors (60+), free for 
 students with ID and those under 18\n
 Sponsor: College of Music\n
 Sponsor's Homepage: http://www.music.msu.edu\n
 Contact email: musicpr@msu.edu\n
LOCATION:Cook Recital Hall, Music Building
END:VEVENT
END:VCALENDAR
