BEGIN:VCALENDAR
VERSION:2.0
METHOD:PUBLISH
PRODID:-//Virginia Tech//VT Calendar//EN
BEGIN:VEVENT
DTSTAMP:20120916T160000Z
UID:1346962849221@events.msu.edu
CATEGORIES:Athletics
DTSTART:20120916T160000Z
DTEND:20120917T035900Z
SUMMARY:Women's Soccer vs. Purdue
DESCRIPTION:
 For more information, go to http://www.msuspartans.com\n\n
 Sponsor: Administration\n
 Sponsor's Homepage: http://events.msu.edu/athletics/\n
 for more info visit the web at:\n 
 http://www.msuspartans.com\n
LOCATION:DeMartin Soccer Complex
END:VEVENT
END:VCALENDAR
