BEGIN:VCALENDAR
VERSION:2.0
METHOD:PUBLISH
PRODID:-//Virginia Tech//VT Calendar//EN
BEGIN:VEVENT
DTSTAMP:20120920T120000Z
UID:1347302547785@events.msu.edu
CATEGORIES:Conferences / Seminars / Lectures
DTSTART:20120920T120000Z
DTEND:20120920T130000Z
SUMMARY:Parent Talk System
DESCRIPTION:
 Parent Talk System: Words that Empower . .  Words 
 that Wound   presented by Judith Minton, 
 Associate Director of Development for the College 
 of Human Medicine, Michigan State University\n
 \n
 \n
 At 
 the end of the activity (presentation), 
 the participants will be better able 
 to: \n
 \n
 1.	Understand how to support the growth 
 of healthy self-esteem through the use of 
 Descriptive vs. Evaluative praise\n
 2.	Understand 
 how to increase the efficacy of corrective 
 feedback through the use of the phrase "I noticed."\n
 3.	Understand 
 that "Parent Talk" isn't 
 just for children . . .  the power of positive 
 language in diverse settings.\n
 \n
 \n\n
 Price: free\n
 Sponsor: Administration\n
 Sponsor's Homepage: http://humanmedicine.msu.edu/\n
 Contact name: Betty Elliott\n
 Contact phone: 355-4715\n
 Contact email: betty.elliott@ht.msu.edu\n
LOCATION:Sparrow Hospital Auditorium
END:VEVENT
END:VCALENDAR
