BEGIN:VCALENDAR
VERSION:2.0
METHOD:PUBLISH
PRODID:-//Virginia Tech//VT Calendar//EN
BEGIN:VEVENT
DTSTAMP:20121001T203000Z
UID:1347304514071@events.msu.edu
CATEGORIES:Public Programs
DTSTART:20121001T203000Z
DTEND:20121001T220000Z
SUMMARY:Detroit is No Dry Bones by Camilo Jose Vergara
DESCRIPTION:
 Detroit has lost nearly sixty percent of its population 
 since the mid-1950s. Sociologist and 
 photographer Camilo José Vergara has traveled 
 to Detroit for over twenty five years to document 
 not only the city's precipitous decline 
 but also how its residents have survived. 
 Vergara's photographs reveal the city of Detroit 
 as a place in which enormous ruins coexist 
 with myriad restaurants, car-repair shops, 
 churches and gardens-a city that is continually 
 re-inventing itself even as it shrinks.\n
 \n
 \n\n
 Price: Free, Public Welcome\n
 Sponsor: public\n
 Contact name: Sue Durkees\n
 Contact phone: 517-353-8540\n
 Contact email: durkees@msu.edu\n
 for more info visit the web at:\n 
 http://gusp.msu.edu/userdocs/Detroit_is_no_Dry_Bones_08272012.pdf\n
LOCATION:Lincoln Room, Kellogg Center
END:VEVENT
END:VCALENDAR
