BEGIN:VCALENDAR
VERSION:2.0
METHOD:PUBLISH
PRODID:-//Virginia Tech//VT Calendar//EN
BEGIN:VEVENT
DTSTAMP:20121011T210000Z
UID:1347385031019@events.msu.edu
CATEGORIES:Student Events
DTSTART:20121011T210000Z
DTEND:20121011T220000Z
SUMMARY:Research Opportunities at MSUCOM - Dr. Justin McCormick, Associate Dean for Research
DESCRIPTION:
 Dr. Justin McCormick, Associate Dean for Research, 
 will discuss research opportunities for 
 medical students at the College of Osteopathic 
 Medicine.\n
 Light snacks will be provided.\n\n
 Price:  Free\n
 Sponsor: SOMA\n
 Contact name: Michael Strug\n
 Contact phone: (609) 315-0756\n
 Contact email: strugmic@msu.edu\n
 for more info visit the web at:\n 
 http://http://www.com.msu.edu/Student_Groups/StudentOrganizationPosters2012/SOMA.pdf\n
LOCATION:EL-E202, DMC-G029 & MUC-UC3 209
END:VEVENT
END:VCALENDAR
