BEGIN:VCALENDAR
VERSION:2.0
METHOD:PUBLISH
PRODID:-//Virginia Tech//VT Calendar//EN
BEGIN:VEVENT
DTSTAMP:20121008T152000Z
UID:1347910539229@events.msu.edu
CATEGORIES:Conferences / Seminars / Lectures
DTSTART:20121008T152000Z
DTEND:20121008T163000Z
SUMMARY:Inorganic Seminar, Department of Chemistry
DESCRIPTION:
 Basudeb Chakraborty, MSU, will present a Department 
 of Chemistry Inorganic Seminar titled "Functionalization 
 of Carbon Nanotubes for Highly 
 Specific Biosensor Applications."  Host: 
  Professor Remi Beaulac.\n\n
 Price: free\n
 Sponsor: Chemistry\n
 Sponsor's Homepage: http://www.chemistry.msu.edu/\n
 Contact name: DeAnn Pierce\n
 Contact phone: 517-355-9715, ext. 137\n
 Contact email: pierce@chemistry.msu.edu\n
LOCATION:136 Chemistry
END:VEVENT
END:VCALENDAR
