BEGIN:VCALENDAR
VERSION:2.0
METHOD:PUBLISH
PRODID:-//Virginia Tech//VT Calendar//EN
BEGIN:VEVENT
DTSTAMP:20121015T152000Z
UID:1347910739605@events.msu.edu
CATEGORIES:Conferences / Seminars / Lectures
DTSTART:20121015T152000Z
DTEND:20121015T163000Z
SUMMARY:Inorganic Seminar, Department of Chemistry
DESCRIPTION:
 Poulami Dutta, MSU, will present a Department 
 of Chemistry Inorganic Seminar titled "Designing 
 Metal-Organic Frameworks for Hydrogen Storage 
 Applications."  Host - Professor Remi Beaulac.\n\n
 Price: free\n
 Sponsor: Chemistry\n
 Sponsor's Homepage: http://www.chemistry.msu.edu/\n
 Contact name: DeAnn Pierce\n
 Contact phone: 517-355-9715, ext. 137\n
 Contact email: pierce@chemistry.msu.edu\n
LOCATION:136 Chemistry
END:VEVENT
END:VCALENDAR
