BEGIN:VCALENDAR
VERSION:2.0
METHOD:PUBLISH
PRODID:-//Virginia Tech//VT Calendar//EN
BEGIN:VEVENT
DTSTAMP:20121129T211000Z
UID:1347985032653@events.msu.edu
CATEGORIES:Conferences / Seminars / Lectures
DTSTART:20121129T211000Z
DTEND:20121129T223000Z
SUMMARY:Inorganic Seminar, Department of Chemistry
DESCRIPTION:
 Professor Tom Hamann will present a Department 
 of Chemistry Inorganic Seminar.  Host - Professor 
 Jim McCusker.  Title: "Molecular and Material 
 Approaches to Advance Solar Energy Conversion."\n\n
 Price: free\n
 Sponsor: Chemistry\n
 Sponsor's Homepage: http://www.chemistry.msu.edu/\n
 Contact name: DeAnn Pierce\n
 Contact phone: 517-355-9715, ext. 137\n
 Contact email: pierce@chemistry.msu.edu\n
LOCATION:136 Chemistry
END:VEVENT
END:VCALENDAR
