BEGIN:VCALENDAR
VERSION:2.0
METHOD:PUBLISH
PRODID:-//Virginia Tech//VT Calendar//EN
BEGIN:VEVENT
DTSTAMP:20121002T230000Z
UID:1348023460043@events.msu.edu
CATEGORIES:Exhibits (Museum, Gardens, ...)
DTSTART:20121002T230000Z
DTEND:20121003T035900Z
SUMMARY:ARTIST TALK:  Fritz Haeg
DESCRIPTION:
 Part of the Department of Art | Art History | 
 Design Guest Lecture Series, visiting artist 
 Fritz Haeg will discuss his work and process. 
  The art of Eli and Edythe Broad Art Museum 
 resident artist Fritz Haeg often occurs in the 
 public arena.  Taking the form of community 
 outreach programs and activism, his recent work 
 has engaged public and private spaces including 
 gardens, public dances, domestic gatherings, 
 temporary encampments, and urban parades. 
 \n\n
 Price: free\n
 Sponsor: public\n
 Contact name: Michelle Word\n
 Contact phone: (517) 355-7610\n
 Contact email: wordmich@msu.edu\n
 for more info visit the web at:\n 
 http://www.art.msu.edu/content/2012-2013-guest-lecture-series\n
LOCATION:South Kedzie Hall, 107
END:VEVENT
END:VCALENDAR
