BEGIN:VCALENDAR
VERSION:2.0
METHOD:PUBLISH
PRODID:-//Virginia Tech//VT Calendar//EN
BEGIN:VEVENT
DTSTAMP:20121005T040000Z
UID:1348258055075-0001@events.msu.edu
CATEGORIES:Conferences / Seminars / Lectures
DTSTART;VALUE=DATE:20121005
DTEND;VALUE=DATE:20121006
SUMMARY:Plant Biotechnology Symposium
DESCRIPTION:
 The Inaugural Symposium on Plant Biotechnology 
 for Health and Sustainability is to develop 
 training opportunities for graduate students. 
 There will be a special emphasis on plant metabolic 
 pathways that affect human health and 
 nutrition, and sustainability in the production 
 of food and fuels from plants and algae. 
 \n\n
 Price: free\n
 Sponsor: CNS\n
 Sponsor's Homepage: http://naturalscience.msu.edu/\n
 Contact name: Helen Geiger \n
 Contact phone: 517-432-9895\n
 for more info visit the web at:\n 
 http://plantmetabolism.cns.msu.edu/Symposium.aspx\n
LOCATION:Molecular Plant Sciences Building, Room 1200
END:VEVENT
END:VCALENDAR
