BEGIN:VCALENDAR
VERSION:2.0
METHOD:PUBLISH
PRODID:-//Virginia Tech//VT Calendar//EN
BEGIN:VEVENT
DTSTAMP:20121019T000000Z
UID:1349366994255@events.msu.edu
CATEGORIES:Student Events
DTSTART:20121019T000000Z
DTEND:20121019T035900Z
SUMMARY:Advance Screening: Paranormal Activity 4
DESCRIPTION:
 Advance Screening: Paranormal Activity 4\n
 8:00 
 p.m., 115 B Wells Hall\n
 The story takes place 
 in 2011, five years after Katie killed her 
 boyfriend Micah, sister Kristi, her husband Daniel 
 and took their baby, Hunter (now named 
 Robbie). Story focuses on Alice and her mom, 
 experiencing weird stuff since the new neighbors 
 (Katie and Robbie) moved in the town. Check 
 back for date tickets are available.\n
 \n
 \n\n
 Price: FREE\n
 Sponsor: University Activities Board (UAB) and Residence 
 Halls Assoc. (RHA)\n
 Sponsor's Homepage: http://www.uabevents.com\n
 Contact name: University Activities Board\n
 Contact phone: 355-3354\n
 Contact email: uab@hfs.msu.edu\n
 for more info visit the web at:\n 
 http://www.uabevents.com or www. rha.msu.edu\n
LOCATION:B-Wing Wells Hall
END:VEVENT
END:VCALENDAR
