BEGIN:VCALENDAR
VERSION:2.0
METHOD:PUBLISH
PRODID:-//Virginia Tech//VT Calendar//EN
BEGIN:VEVENT
DTSTAMP:20121010T190000Z
UID:1349722011951@events.msu.edu
CATEGORIES:Conferences / Seminars / Lectures
DTSTART:20121010T190000Z
DTEND:20121010T203000Z
SUMMARY:2012 Distinguished Lecture Series on Water: Water Shortages and Solutions
DESCRIPTION:
 Robert Glennon, Morris K. Udall Professor of Law 
 and Public Policy from the University of Arizona, 
 gives a seminar on &quot;Water Shortages 
 and Solutions&quot; as part of the MSU Distinguished 
 Lecture Series on Water. Robert Glennon 
 is the author of Unquenchable: America's 
 Water Crisis and What To Do About It, which 
 was published in April 2009 by Island Press. 
 His previous books include the highly-acclaimed 
 Water Follies: Groundwater Pumping and the 
 Fate of America's Fresh Waters (2002).  \n\n
 Price: free\n
 Sponsor: public\n
 Contact name: Erin Dreelin\n
 Contact email: dreelin@msu.edu\n
 for more info visit the web at:\n 
 http://www.espp.msu.edu/news/water-distinguished-lecture-series.php#october\n
LOCATION:MSU Union, Parlor C
END:VEVENT
END:VCALENDAR
