BEGIN:VCALENDAR
VERSION:2.0
METHOD:PUBLISH
PRODID:-//Virginia Tech//VT Calendar//EN
BEGIN:VEVENT
DTSTAMP:20121127T211000Z
UID:1350394868800@events.msu.edu
CATEGORIES:Conferences / Seminars / Lectures
DTSTART:20121127T211000Z
DTEND:20121128T045900Z
SUMMARY:Physical Seminar
DESCRIPTION:
 Professor Victor S. Batista, Yale University\n
 TBA\n\n
 Price: free\n
 Sponsor: Chemistry\n
 Sponsor's Homepage: http://www.chemistry.msu.edu/\n
 Contact name: Brenda Franklin\n
 Contact phone: (517) 355-9715 ext. 341\n
 Contact email: franklin@chemistry.msu.edu\n
LOCATION:Chemistry
END:VEVENT
END:VCALENDAR
