BEGIN:VCALENDAR
VERSION:2.0
METHOD:PUBLISH
PRODID:-//Virginia Tech//VT Calendar//EN
BEGIN:VEVENT
DTSTAMP:20121028T000000Z
UID:1350920277250@events.msu.edu
CATEGORIES:Performing Arts (Dance, Music, Theatre,  ...)
DTSTART:20121028T000000Z
DTEND:20121028T035900Z
SUMMARY:Aquila Theatre: The Taming of the Shrew
DESCRIPTION:
 The Beautiful Bianca desires to be married - but 
 she cannot be courted until her shrewish sister 
 is taken to wife by...anyone. Two of Bianca's 
 loving suitors hire fortune-hunting Petruchio 
 to win the hand of the wild (but wealthy) 
 Katherina, and to &quot;tame&quot; her. 
 With wisecracks, acerbic wit and a quick temper, 
 neither man nor woman is willing to yield 
 in this classic comedy of the sexes. Aquila 
 Theatre, as always, takes a fresh look at one 
 of Shakespeare's most challenging comedies, 
 with a style the New York Times has described 
 as &quot;Gleefully engaging... almost unbearable 
 fun... directed with inspiration and a beautiful 
 use of physical humor.&quot; Don't miss 
 another inventive work from the creators 
 of last season's sold-out theatrical events!\n\n
 Price: $45\n
 Sponsor: public\n
 Contact name: Wharton Center\n
 Contact phone: 517-353-1982\n
 Contact email: whartoncenter@gmail.com\n
 for more info visit the web at:\n 
 http://whartoncenter.com/boxoffice/performance.aspx?pid=1263\n
LOCATION:Wharton Center
END:VEVENT
END:VCALENDAR
