BEGIN:VCALENDAR
VERSION:2.0
METHOD:PUBLISH
PRODID:-//Virginia Tech//VT Calendar//EN
BEGIN:VEVENT
DTSTAMP:20121130T003000Z
UID:1350934764026@events.msu.edu
CATEGORIES:Performing Arts (Dance, Music, Theatre,  ...)
DTSTART:20121130T003000Z
DTEND:20121130T045900Z
SUMMARY:Shakespeare's Will
DESCRIPTION:
 On the eve of William Shakespeare's funeral, his 
 widow, Anne Hathaway, recalls her life with 
 - and without - the enigmatic poet.\n\n
 Price: $48.00\n
 Sponsor: public\n
 Contact name: Bob Hoffman\n
 Contact phone: 1-800-WHARTON\n
 Contact email: whartoncenter@gmail.com\n
 for more info visit the web at:\n 
 http://whartoncenter.com/boxoffice/performance.aspx?pid=1264\n
LOCATION:Wharton Center
END:VEVENT
END:VCALENDAR
