BEGIN:VCALENDAR
VERSION:2.0
METHOD:PUBLISH
PRODID:-//Virginia Tech//VT Calendar//EN
BEGIN:VEVENT
DTSTAMP:20120119T140000Z
UID:1351099511084@events.msu.edu
CATEGORIES:Performing Arts (Dance, Music, Theatre,  ...)
DTSTART:20120119T140000Z
DTEND:20120119T170000Z
SUMMARY:Community Music School-Detroit Aspiring Musicians Program Recitals
DESCRIPTION:
 Community Music School-Detroit's Aspiring Musicians 
 Program recital performances\n\n
 Price: free\n
 Sponsor: Administration\n
 Sponsor's Homepage: http://events.msu.edu/cmusic-detroit/\n
 Contact name: Christal Banks\n
 Contact phone: 313-578-9716\n
 Contact email: banksch@msu.edu\n
LOCATION:MSU Detroit Center, 3408 Woodward Avenue, Detroit
END:VEVENT
END:VCALENDAR
