BEGIN:VCALENDAR
VERSION:2.0
METHOD:PUBLISH
PRODID:-//Virginia Tech//VT Calendar//EN
BEGIN:VEVENT
DTSTAMP:20120112T173000Z
UID:1351186255776@events.msu.edu
CATEGORIES:Performing Arts (Dance, Music, Theatre,  ...)
DTSTART:20120112T173000Z
DTEND:20120112T203000Z
SUMMARY:MSU Community Music School Choir Auditions
DESCRIPTION:
 Prospective singers looking to join a CMS choir 
 should audition at the MSU Community Music 
 School. \n
 The six choirs are\n
 1. Preparatory 
 Choir (ages 7-9)\n
 2. Cantabile (ages 8-10)  \n
 3. 
 CMS Singers (ages 9-14)\n
 4. MSU Children's 
 Choir (ages 10-16)\n
 5. Young Men's Chorus (age 
 13-18)\n
 6. Young Women's Chorus (ages 15-18)\n
 \n
 No 
 audition material is necessary. Please 
 call (517) 355-7661, ext. 10, to set up an 
 audition time.\n
 \n
 \n\n
 Price: free\n
 Sponsor: Administration\n
 Sponsor's Homepage: http://cms.msu.edu\n
 Contact name: MSU Community Music School\n
 Contact phone: (517) 355-7661 ext. 10\n
LOCATION:841 Timberlane St., Suite B, East Lansing, MI 48823
END:VEVENT
END:VCALENDAR
