BEGIN:VCALENDAR
VERSION:2.0
METHOD:PUBLISH
PRODID:-//Virginia Tech//VT Calendar//EN
BEGIN:VEVENT
DTSTAMP:20121104T180000Z
UID:1351203313906@events.msu.edu
CATEGORIES:Exhibits (Museum, Gardens, ...)
DTSTART:20121104T180000Z
DTEND:20121104T200000Z
SUMMARY:First Sunday Gallery Walk for "Autoimmune System"
DESCRIPTION:
 From 1 to 3 p.m. on Sunday, November 4, visit 
 the "Autoimmune System" exhibit at the RCAH's 
 LookOut! Gallery in Snyder-Phillips Hall. The 
 LookOut! Gallery is participating in the greater 
 Lansing area's First Sunday Gallery Walk 
 event for November.\n
 \n
 "Autoimmune System" 
 is a collection of contemporary photos that engage 
 the historical relationship of photography 
 to the colonization of Native North Americans 
 as a tool for decolonization.\n
 \n
 The Residential 
 College in the Arts and Humanities is 
 hosting the exhibit through November 16, 2012, 
 and regular gallery hours are from 12 p.m. 
 to 3 p.m., Mondays through Fridays.\n\n
 Price: Free\n
 Sponsor: Residential College in the Arts and Humanities\n
 Sponsor's Homepage: http://rcah.msu.edu\n
 Contact name: Katie Wittenauer\n
 Contact phone: (517) 884-6290\n
 Contact email: wittenau@msu.edu\n
 for more info visit the web at:\n 
 http://rcah.msu.edu/news-events/events/first-sunday-gallery-walk-autoimmune-system\n
LOCATION:LookOut! Gallery
END:VEVENT
END:VCALENDAR
