BEGIN:VCALENDAR
VERSION:2.0
METHOD:PUBLISH
PRODID:-//Virginia Tech//VT Calendar//EN
BEGIN:VEVENT
DTSTAMP:20121111T213000Z
UID:1351629173045@events.msu.edu
CATEGORIES:Academic
DTSTART:20121111T213000Z
DTEND:20121111T223000Z
SUMMARY:Johns Hopkins School of Public Health 
DESCRIPTION:
 Join the Drew Scholars Program as they host guest 
 speakers from the Johns Hopkins School of 
 Public Health. \n
 \n
 Sunday, November 11 from 
 4:30-5:30 in Brody classrooms 136 and 138\n\n
 Price: free\n
 Sponsor: Drew Scholars Program\n
 Sponsor's Homepage: http://events.msu.edu/brodyneighborhood/\n
LOCATION:Brody, Room 136/138
END:VEVENT
END:VCALENDAR
