BEGIN:VCALENDAR
VERSION:2.0
METHOD:PUBLISH
PRODID:-//Virginia Tech//VT Calendar//EN
BEGIN:VEVENT
DTSTAMP:20121115T000000Z
UID:1351786883535@events.msu.edu
CATEGORIES:Student Events
DTSTART:20121115T000000Z
DTEND:20121115T045900Z
SUMMARY:Real Heroes: No Capes, No Masks, No Distractions
DESCRIPTION:
 UAB Speaker Series. Real Heroes: No Capes, No 
 Masks No Distractions\n
 7 p.m., Gold A & B, 2nd 
 floor, MSU Union.  \n
 With Thanksgiving right 
 around the corner, UAB has planned a powerful 
 night to help us remember what we are thankful 
 for! Join us for a discussion of how two 
 individuals lives were forever changed by the 
 powerful gift of organ donation. Hear about 
 the healing that organ donation brings from 
 an organ donor's family and an organ recipient. 
 You won't want to miss these incredible heroes! 
 \n
 \n
 \n\n
 Price: FREE\n
 Sponsor: University Activities Board (UAB)\n
 Sponsor's Homepage: http://www.uabevents.com\n
 Contact name: University Activities Board\n
 Contact phone: 355-3354\n
 Contact email: uab@hfs.msu.edu\n
 for more info visit the web at:\n 
 http://www.uabevents.com\n
LOCATION:Gold A & B, MSU Union
END:VEVENT
END:VCALENDAR
