BEGIN:VCALENDAR
VERSION:2.0
METHOD:PUBLISH
PRODID:-//Virginia Tech//VT Calendar//EN
BEGIN:VEVENT
DTSTAMP:20121127T150000Z
UID:1351787134918-0002@events.msu.edu
CATEGORIES:Student Events
DTSTART:20121127T150000Z
DTEND:20121127T230000Z
SUMMARY:Enchanted Planet Sale
DESCRIPTION:
 Enchanted Planet Sale\n
 10 a.m. to 6 p.m., MSU 
 Union Concourse\n
 Stop by and say hello to Tye 
 Dye Thom! Shop for the following: tapestries, 
 historical and country flags from around the 
 world, hemp jewelry, winter animal hats, cool 
 winter gear, hobo gloves, baja's, winter scarfs, 
 rock posters, t-shirts, country and rock 
 pins and more.\n
 \n
 \n\n
 Price: FREE\n
 Sponsor: University Activities Board (UAB)\n
 Sponsor's Homepage: http://www.uabevents.com\n
 Contact name: University Activities Board\n
 Contact phone: 355-3354\n
 Contact email: uab@hfs.msu.edu\n
 for more info visit the web at:\n 
 http://www.uabevents.com\n
LOCATION:MSU  Union Concourse
END:VEVENT
END:VCALENDAR
