BEGIN:VCALENDAR
VERSION:2.0
METHOD:PUBLISH
PRODID:-//Virginia Tech//VT Calendar//EN
BEGIN:VEVENT
DTSTAMP:20130116T153000Z
UID:1355929032434@events.msu.edu
CATEGORIES:Training
DTSTART:20130116T153000Z
DTEND:20130116T170000Z
SUMMARY:EndNote Web
DESCRIPTION:
 A basic introduction to EndNote Web, a free version 
 of EndNote available through the MSU Libraries' 
 subscription to ISI databases (ex. Web 
 of Science).  Learn how to:\n
 * Import references 
 from MSU's online catalog and article 
 databases\n
 *Create groups and share references 
 with other EndNote Web users\n
 * Format citations 
 and bibliographies in a Word document\n
 \n
 For more information about this popular program, 
 visit http://libguides.lib.msu.edu/endnote\n
 \n
 Previous 
 experience searching article 
 databases available from the MSU Libraries is 
 highly recommended.\n\n
 Price: free\n
 Sponsor: Administration\n
 Sponsor's Homepage: http://www.lib.msu.edu\n
 Contact name: Andrea Kepsel\n
 Contact phone: 884-0898\n
 Contact email: akepsel@msu.edu\n
 for more info visit the web at:\n 
 http://classes.lib.msu.edu/view_class.php?class_id=5\n
LOCATION:Main Library, Basement Instruction Room
END:VEVENT
END:VCALENDAR
