BEGIN:VCALENDAR
VERSION:2.0
METHOD:PUBLISH
PRODID:-//Virginia Tech//VT Calendar//EN
BEGIN:VEVENT
DTSTAMP:20130101T050000Z
UID:1356106347436@events.msu.edu
CATEGORIES:Administration
DTSTART;VALUE=DATE:20130101
DTEND;VALUE=DATE:20130102
SUMMARY:Holiday - University Closed
DESCRIPTION:
  Sponsor: Administration\n
 Sponsor's Homepage: http://events.msu.edu/\n
END:VEVENT
END:VCALENDAR
