BEGIN:VCALENDAR
VERSION:2.0
METHOD:PUBLISH
PRODID:-//Virginia Tech//VT Calendar//EN
BEGIN:VEVENT
DTSTAMP:20130112T000500Z
UID:1356706549817@events.msu.edu
CATEGORIES:Athletics
DTSTART:20130112T000500Z
DTEND:20130112T045900Z
SUMMARY:Men's Ice Hockey vs. Notre Dame
DESCRIPTION:
 For more information, go to http://www.msuspartans.com\n\n
 Sponsor: Administration\n
 Sponsor's Homepage: http://events.msu.edu/athletics/\n
 for more info visit the web at:\n 
 http://www.msuspartans.com\n
LOCATION:Munn Ice Arena
END:VEVENT
END:VCALENDAR
