BEGIN:VCALENDAR
VERSION:2.0
METHOD:PUBLISH
PRODID:-//Virginia Tech//VT Calendar//EN
BEGIN:VEVENT
DTSTAMP:20130106T193000Z
UID:1357242064587@events.msu.edu
CATEGORIES:Special Events
DTSTART:20130106T193000Z
DTEND:20130106T203000Z
SUMMARY:Sky Tellers:  Seasons and Moon
DESCRIPTION:
 Long ago, people explored the wonders of the sky 
 with the help of storytellers, who enchanted 
 them with rich, magical stories about the 
 night sky.  Today we turn to scientists to help 
 us explore these same mysteries.  "Sky Tellers" 
 explains the reason for the changing seasons 
 and what causes the phases of the Moon 
 by first using Native American stories and then 
 giving modern astronomical explanations.\n\n
 Price: a\n
 Sponsor: Abrams Planetarium\n
 Sponsor's Homepage: http://www.pa.msu.edu/abrams\n
 Contact name: Mary Gowans\n
 Contact phone: 517-355-4676\n
 Contact email: gowans@msu.edu\n
 for more info visit the web at:\n 
 http://www.pa.msu.edu/abrams\n
LOCATION:Abrams Planetarium
END:VEVENT
END:VCALENDAR
