BEGIN:VCALENDAR
VERSION:2.0
METHOD:PUBLISH
PRODID:-//Virginia Tech//VT Calendar//EN
BEGIN:VEVENT
DTSTAMP:20130119T153000Z
UID:1357575793290-0002@events.msu.edu
CATEGORIES:Public Programs
DTSTART:20130119T153000Z
DTEND:20130119T163000Z
SUMMARY:Prospective Freshmen Program
DESCRIPTION:
 Intended for prospective freshmen students who 
 have NOT been admitted to Michigan State University. 
 \n
 \n
 Program begins at 10:30 a.m. Walking 
 tour of campus begins at 11:30 a.m. Walking 
 tour will last approximately 90 minutes. 
 \n
 \n
 No program during MSU Spring Break (March 
 2nd) or Easter weekend (March 30th). \n
 \n
 Reservations 
 are required for all programs. Please 
 note that all times are in the Eastern Time 
 Zone. \n\n
 Price: free\n
 Sponsor: Administration\n
 Sponsor's Homepage: http://events.msu.edu/admissions/\n
 Contact name: Admissions\n
 Contact phone: 517-355-8332\n
 Contact email: admis@msu.edu\n
 for more info visit the web at:\n 
 https://admissions.msu.edu/visitCampus/dailyPrograms.asp\n
LOCATION:3rd Floor
END:VEVENT
END:VCALENDAR
